BEGIN:VCALENDAR
PRODID:-//eluceo/ical//2.0/EN
VERSION:2.0
CALSCALE:GREGORIAN
BEGIN:VEVENT
UID:73083be23fa663fac7245671c496e1a1
DTSTAMP:20260424T120450Z
SUMMARY:Support Israeli farmer\, get private-label Kosher Passover wine. Or
 der NOW!
DESCRIPTION:Jewish Federation of Greater Orange County New York\nCalendar\n
 https://jewishorangeny.org/calendar/support-an-israeli-farmer-and-get-wine
 -24\n\nSupport an Israeli farmer and receive\, from their bounty\, your ow
 n\, private-label\; olive oil\, Kosher wine\, or whiskey!\n\nFederation of
  Orance County NY | My Tree in Israel
DTSTART;TZID=America/New_York:20240207T000000
DTEND;TZID=America/New_York:20240207T235959
END:VEVENT
END:VCALENDAR
