BEGIN:VCALENDAR
PRODID:-//eluceo/ical//2.0/EN
VERSION:2.0
CALSCALE:GREGORIAN
BEGIN:VEVENT
UID:a6b749e54fd225d8501b0acfaa30f592
DTSTAMP:20260420T094923Z
SUMMARY:Alka Joshi | Virtual JBC Author Event with Temple Sinai
DESCRIPTION:Jewish Federation of Greater Orange County New York\nCalendar\n
 https://jewishorangeny.org/calendar/alka-joshi-virtual-jbc-author-event-wi
 th-temple-sinai\n\n"Six Days in Bombay"\nAlka Joshi\nA Virtual JBC Author
  Event with Temple Sinai\nSunday\, November 23 | 2pm\n\nDetails Coming Soo
 n!\n\n\n\nReview By Miri­am Brad­man Abrahams– April 14\, 2025\n\nThis
  work of his­tor­i­cal fic­tion is a page-turn­er with an ele­ment o
 f mys­tery. Begin­ning in 1937 Bom­bay and mov­ing to Istan­bul\, Pra
 gue\, and Flo­rence\, it fol­lows Sona\, a half Indi­an\, half British 
 young nurse liv­ing with her beloved seam­stress moth­er in a tiny apar
 tment...
DTSTART;TZID=America/New_York:20251123T140000
DTEND;TZID=America/New_York:20251123T153000
END:VEVENT
END:VCALENDAR
